BEGIN:VCALENDAR
VERSION:2.0
PRODID:-//ChamberMaster//Event Calendar 2.0//EN
METHOD:PUBLISH
X-PUBLISHED-TTL:P3D
REFRESH-INTERVAL:P3D
CALSCALE:GREGORIAN
BEGIN:VEVENT
DTSTART:20260425T230000Z
DTEND:20260426T010000Z
X-MICROSOFT-CDO-ALLDAYEVENT:FALSE
SUMMARY:19th Annual Joe Woods Wildwood Express
DESCRIPTION:This is a fantastic\, family-friendly event at the Dixie Center for the Arts! Proceeds from this show are dedicated to our building fund to help us continue restoring this beautiful historic venue. Dust off your toe-tapping shoes and boots and get ready for a fun\, old-fashioned country variety show right here in Ruston at the Historic Dixie Theater! The Joe Woods Wildwood Express is a benefit show that helps to raise funds and awareness for the Dixie Center for the Arts
X-ALT-DESC;FMTTYPE=text/html:This is a fantastic\, family-friendly event at the Dixie Center for the Arts! Proceeds from this show are dedicated to our building fund to help us continue restoring this beautiful historic venue. Dust off your toe-tapping shoes and boots and get ready for a fun\, old-fashioned country variety show right here in Ruston at the Historic Dixie Theater! The Joe Woods Wildwood Express is a benefit show that helps to raise funds and awareness for the Dixie Center for the Arts
LOCATION:212 N Vienna St\, Ruston\, LA 71270
UID:e.682.33096
SEQUENCE:3
DTSTAMP:20260421T082130Z
URL:https://business.rustonlincoln.org/events/details/19th-annual-joe-woods-wildwood-express-33096
END:VEVENT

END:VCALENDAR
