BEGIN:VCALENDAR
VERSION:2.0
PRODID:-//ChamberMaster//Event Calendar 2.0//EN
METHOD:PUBLISH
X-PUBLISHED-TTL:P3D
REFRESH-INTERVAL:P3D
CALSCALE:GREGORIAN
BEGIN:VEVENT
DTSTART:20240116T140000Z
DTEND:20240120T220000Z
X-MICROSOFT-CDO-ALLDAYEVENT:FALSE
SUMMARY:7th Louisiana Biennial: National Juried Exhibition
DESCRIPTION:Exhibtion Inofrmation Juror: Laura Blereau Curator of Exhibitions at Newcomb Art Museum of Tulane University\, New Orleans Several regional artists are represented in the show. Featuring work by: Sarah Amacker\, Diana Behl\, Susan Carr\, Cheeny Celebrado-Royer\, Jinghong Chen\, WangLing Chou\, Jeanne Ciravolo\, Lionel Cruet - Morales\, Sara Dismukes\, Melanie Douthit\, Lynda Frese\, Matt Frieburghaus\, Timothy Gonchoroff\, Frank Herbert\, Michael Hower\, Jeremiah Johnson Bette Kauffman\, Katie Kehoe\, Amanda Kralovic\, Christopher Latil\, Sandra Lee\, Madison Manning\, Nick Mendoza\, Sarah Miller\, Sarah Nance\, Jacqueline Neale\, Kristin Powers Nowlin\, Robert Patrick\, Millian Giang Pham\, Natalie Preston\, Carey Roberson\, Suzanna Scott\, Sabrina Skinner\, Adrianna Speer\, David Samuel Stern\, Clifford Tresner\, Scott Turri\, Lindsey Waters\, Rebecca Welz\, Markus Wobisch\, Lauren Woods\, Ben Wreyford\, Jenny Wu
X-ALT-DESC;FMTTYPE=text/html:Exhibtion Inofrmation Juror: Laura Blereau Curator of Exhibitions at Newcomb Art Museum of Tulane University\, New Orleans Several regional artists are represented in the show. Featuring work by: Sarah Amacker\, Diana Behl\, Susan Carr\, Cheeny Celebrado-Royer\, Jinghong Chen\, WangLing Chou\, Jeanne Ciravolo\, Lionel Cruet - Morales\, Sara Dismukes\, Melanie Douthit\, Lynda Frese\, Matt Frieburghaus\, Timothy Gonchoroff\, Frank Herbert\, Michael Hower\, Jeremiah Johnson Bette Kauffman\, Katie Kehoe\, Amanda Kralovic\, Christopher Latil\, Sandra Lee\, Madison Manning\, Nick Mendoza\, Sarah Miller\, Sarah Nance\, Jacqueline Neale\, Kristin Powers Nowlin\, Robert Patrick\, Millian Giang Pham\, Natalie Preston\, Carey Roberson\, Suzanna Scott\, Sabrina Skinner\, Adrianna Speer\, David Samuel Stern\, Clifford Tresner\, Scott Turri\, Lindsey Waters\, Rebecca Welz\, Markus Wobisch\, Lauren Woods\, Ben Wreyford\, Jenny Wu
LOCATION:Louisiana Tech University School of Design Galleries F Jay Taylor Visual Arts Center (TVAC) 1 Mayfield Avenue Ruston\, LA 71272
UID:e.682.32868
SEQUENCE:3
DTSTAMP:20260419T183937Z
URL:https://business.rustonlincoln.org/events/details/7th-louisiana-biennial-national-juried-exhibition-01-16-2024-32868
END:VEVENT

END:VCALENDAR
