BEGIN:VCALENDAR
VERSION:2.0
PRODID:-//ChamberMaster//Event Calendar 2.0//EN
METHOD:PUBLISH
X-PUBLISHED-TTL:P3D
REFRESH-INTERVAL:P3D
CALSCALE:GREGORIAN
BEGIN:VEVENT
DTSTART:20201122T200000Z
DTEND:20201123T010000Z
X-MICROSOFT-CDO-ALLDAYEVENT:FALSE
SUMMARY:Blood Drive
DESCRIPTION:Donate and receive a $10.00 voucher for a turkey or ham\, a t-shirt\, and a entry into a drawing for a gift basket. while supplies last. You can schedule an appointment or just come by. Your donation will go to help those in accidents\, someone fighting cancer\, sickle cell\, or a surgery patient.
X-ALT-DESC;FMTTYPE=text/html:Donate and receive a $10.00 voucher for a turkey or ham\, a t-shirt\, and a entry into a drawing for a gift basket. while supplies last. You can schedule an appointment or just come by. Your donation will go to help those in accidents\, someone fighting cancer\, sickle cell\, or a surgery patient.
LOCATION:Park Ridge Estates Ruston Apartments 403 Rich Smith Ln Ruston\, LA 71270 located next to Campus Evolution
UID:e.682.28972
SEQUENCE:3
DTSTAMP:20260420T132203Z
URL:https://business.rustonlincoln.org/events/details/blood-drive-11-22-2020-28972
END:VEVENT

END:VCALENDAR
