BEGIN:VCALENDAR
VERSION:2.0
PRODID:-//ChamberMaster//Event Calendar 2.0//EN
METHOD:PUBLISH
X-PUBLISHED-TTL:P3D
REFRESH-INTERVAL:P3D
CALSCALE:GREGORIAN
BEGIN:VEVENT
DTSTART:20260502T160000Z
DTEND:20260502T210000Z
X-MICROSOFT-CDO-ALLDAYEVENT:FALSE
SUMMARY:Grambling State University Decision Day Party and Community Resource Fair
DESCRIPTION:Grambling State University Decision Day Party and Community Resource Fair\n\nJoin Grambling State University's Office of Admissions and Recruitment as they celebrate incoming freshmen on Decision Day. This special event honors students who have chosen Grambling State and welcomes them as they prepare for their next chapter.\n\nThe event will also feature a Community Resource Fair\, offering local businesses and organizations the opportunity to connect with students and families\, share resources\, and showcase what Lincoln Parish has to offer.\n\nDate: Saturday\, May 2\, 2026\n\nTime: 11:00 AM to 3:00 PM\n\nLocation: Grambling State University Campus\n\nIf your business or organization is interested in participating in the Community Resource Fair\, please contact Lauren Washington at washingtonl@gram.edu for more information.
X-ALT-DESC;FMTTYPE=text/html:<section class="text-token-text-primary w-full focus:outline-none [--shadow-height:45px] has-data-writing-block:pointer-events-none has-data-writing-block:-mt-(--shadow-height) has-data-writing-block:pt-(--shadow-height) [&amp\;:has([data-writing-block])&gt\;*]:pointer-events-auto [content-visibility:auto] supports-[content-visibility:auto]:[contain-intrinsic-size:auto_100lvh] R6Vx5W_threadScrollVars scroll-mb-[calc(var(--scroll-root-safe-area-inset-bottom\,0px)+var(--thread-response-height))] scroll-mt-[calc(var(--header-height)+min(200px\,max(70px\,20svh)))]" data-scroll-anchor="false" data-testid="conversation-turn-12" data-turn="assistant" data-turn-id="request-WEB:f4f58981-f453-4ee4-8156-ec62c8aef6b2-5" dir="auto" style="color: rgb(0\, 0\, 0)\; font-size: medium\;">\n<div class="text-base my-auto mx-auto pb-10 [--thread-content-margin:var(--thread-content-margin-xs\,calc(var(--spacing)*4))] @w-sm/main:[--thread-content-margin:var(--thread-content-margin-sm\,calc(var(--spacing)*6))] @w-lg/main:[--thread-content-margin:var(--thread-content-margin-lg\,calc(var(--spacing)*16))] px-(--thread-content-margin)">\n<div class="[--thread-content-max-width:40rem] @w-lg/main:[--thread-content-max-width:48rem] mx-auto max-w-(--thread-content-max-width) flex-1 group/turn-messages focus-visible:outline-hidden relative flex w-full min-w-0 flex-col agent-turn">\n<div class="flex max-w-full flex-col gap-4 grow">\n<div class="min-h-8 text-message relative flex w-full flex-col items-end gap-2 text-start break-words whitespace-normal outline-none keyboard-focused:focus-ring [.text-message+&amp\;]:mt-1" data-message-author-role="assistant" data-message-id="e37d2c0b-e962-482d-8e32-3693ae801dfc" data-message-model-slug="gpt-5-3" data-turn-start-message="true" dir="auto" tabindex="0">\n<div class="flex w-full flex-col gap-1 empty:hidden">\n<div class="markdown prose dark:prose-invert w-full wrap-break-word light markdown-new-styling">\n<p data-end="120" data-start="43"><strong data-end="120" data-start="43">Grambling State University Decision Day Party and Community Resource Fair</strong></p>\n\n<p data-end="370" data-start="122">Join Grambling State University&rsquo\;s Office of Admissions and Recruitment as they celebrate incoming freshmen on Decision Day. This special event honors students who have chosen Grambling State and welcomes them as they prepare for their next chapter.</p>\n\n<p data-end="589" data-start="372">The event will also feature a Community Resource Fair\, offering local businesses and organizations the opportunity to connect with students and families\, share resources\, and showcase what Lincoln Parish has to offer.</p>\n\n<p data-end="706" data-start="591"><strong data-end="600" data-start="591">Date:</strong> Saturday\, May 2\, 2026<br data-end="625" data-start="622" />\n<strong data-end="634" data-start="625">Time:</strong> 11:00 AM to 3:00 PM<br data-end="657" data-start="654" />\n<strong data-end="670" data-start="657">Location:</strong> Grambling State University Campus</p>\n\n<p data-end="882" data-start="708">If your business or organization is interested in participating in the Community Resource Fair\, please contact Lauren Washington at <a class="decorated-link cursor-pointer" data-end="860" data-start="840" rel="noopener">washingtonl@gram.edu&nbsp\;</a>for more information.</p>\n\n<hr data-end="887" data-is-last-node="" data-is-only-node="" data-start="884" /></div>\n</div>\n</div>\n</div>\n</div>\n</div>\n</section>\n
LOCATION:Location: Grambling State University Campus
UID:e.682.33118
SEQUENCE:3
DTSTAMP:20260421T204507Z
URL:https://business.rustonlincoln.org/events/details/grambling-state-university-decision-day-party-and-community-resource-fair-33118
END:VEVENT

END:VCALENDAR
