BEGIN:VCALENDAR
VERSION:2.0
PRODID:-//ChamberMaster//Event Calendar 2.0//EN
METHOD:PUBLISH
X-PUBLISHED-TTL:P3D
REFRESH-INTERVAL:P3D
CALSCALE:GREGORIAN
BEGIN:VEVENT
DTSTART;VALUE=DATE:20200117
DTEND;VALUE=DATE:20200321
TRANSP:TRANSPARENT
X-MICROSOFT-CDO-ALLDAYEVENT:TRUE
SUMMARY:#LaPeachFest T-Shirt Design Contest
DESCRIPTION:2020 T-SHIRT DESIGN CONTEST\n\n \n\nELIGIBILITY\n\nOpen to all artists (professional\, amateur and student). Minors who enter must have the written consent of a parent or legal guardian in order to be eligible to receive any prizes. Artists may submit more than one design but must do so with separate submission forms. Artists may enter both the poster and t-shirt contests but may not submit the same art.\n\n \n\nENTRY FEE\n\nN/A\n\n \n\nENTRY FORM & DEADLINE FOR ENTRIES\n\nEntries must be received by 5 p.m.\, Friday\, March 20\, 2020. \n\n \n\nAWARD\n\nWinner will receive $500.\n\n\n\nRules and Entry Form
X-ALT-DESC;FMTTYPE=text/html:<strong><span style="font-size:16.0pt\;">2020 T-SHIRT DESIGN CONTEST</span></strong><br />\n&nbsp\;<br />\n<strong>ELIGIBILITY</strong><br />\nOpen to all artists (professional\, amateur and student). Minors who enter must have the written consent of a parent or legal guardian in order to be eligible to receive any prizes. Artists may submit more than one design but must do so with separate submission forms. Artists may enter both the poster and t-shirt contests but may not submit the same art.<br />\n&nbsp\;<br />\n<strong>ENTRY FEE</strong><br />\n<span style="font-size:11.0pt\;">N/A</span><br />\n&nbsp\;<br />\n<strong>ENTRY FORM &amp\; DEADLINE FOR ENTRIES</strong><br />\n<strong>Entries must be received by 5 p.m.\, Friday\, March 20\, 2020.</strong>&nbsp\;<br />\n&nbsp\;<br />\n<strong>AWARD</strong><br />\n<span style="font-size:11.0pt\;">Winner will receive $500.</span><br />\n<br />\n<span style="font-size:20px\;"><a href="https://chambermaster.blob.core.windows.net/userfiles/UserFiles/chambers/682/File/Applications/2020tshirtformandrulescomboword.pdf">Rules and Entry Form</a> </span>
LOCATION:
UID:e.682.26164
SEQUENCE:3
DTSTAMP:20260422T195516Z
URL:https://business.rustonlincoln.org/events/details/lapeachfest-t-shirt-design-contest-26164
END:VEVENT

END:VCALENDAR
