BEGIN:VCALENDAR
VERSION:2.0
PRODID:-//ChamberMaster//Event Calendar 2.0//EN
METHOD:PUBLISH
X-PUBLISHED-TTL:P3D
REFRESH-INTERVAL:P3D
CALSCALE:GREGORIAN
BEGIN:VEVENT
DTSTART:20260615T140000Z
DTEND:20260619T200000Z
X-MICROSOFT-CDO-ALLDAYEVENT:FALSE
SUMMARY:Lead & Launch: The Innovation Institute
DESCRIPTION:Lead & Launch: The Innovation Institute\n\nHosted by Louisiana Tech Center for Entrepreneurship and Innovation in collaboration with Delta Community College and the Lincoln Parish Chamber of Commerce\n\nReady to turn ideas into something real? Lead & Launch is a free\, hands-on summer experience designed for rising high school juniors and seniors who want to think creatively\, solve problems\, and explore business ideas.\n\nHeld on the campus of Louisiana Tech University\, this week-long\, in-person camp gives students the opportunity to work in teams\, develop a business concept\, learn from local entrepreneurs and community leaders\, participate in field trips\, and pitch their ideas on the final day.\n\nStudents will gain valuable skills in communication\, problem-solving\, and leadership tools that are useful in any career path.\n\nCamp Details:\n\n  Who: Rising high school juniors & seniors (2026 2027 school year)\n\n  When: June 15 19\n\n   Monday Thursday: 9:00 AM   2:00 PM (breakfast at 8:30 AM)\n\n   Friday: 9:00 AM   12:00 PM (Pitch Day)\n\n  Where: Louisiana Tech University\, College of Business\n\n 502 W. Texas Avenue\, Ruston\, LA (plus select off-site visits)\n\n  Cost: Free (includes meals and camp t-shirt)\n\n  Capacity: Limited to 30 students\n\nThroughout the week\, students will move from idea to execution learning entrepreneurship basics\, testing concepts\, building a brand\, and preparing a final pitch presentation.\n\nRegister here:  https://latech.qualtrics.com/jfe/form/SV_9MmXfwP16qS8c6i
X-ALT-DESC;FMTTYPE=text/html:<p data-end="305" data-start="104"><strong data-end="147" data-start="104">Lead &amp\; Launch: The Innovation Institute</strong><br data-end="150" data-start="147" />\nHosted by <span class="hover:entity-accent entity-underline inline cursor-pointer align-baseline">Louisiana Tech Center for Entrepreneurship and Innovation</span> in collaboration with <span class="hover:entity-accent entity-underline inline cursor-pointer align-baseline">Delta Community College</span> and the <span class="hover:entity-accent entity-underline inline cursor-pointer align-baseline">Lincoln Parish Chamber of Commerce</span></p>\n\n<p data-end="525" data-start="307">Ready to turn ideas into something real? Lead &amp\; Launch is a free\, hands-on summer experience designed for rising high school juniors and seniors who want to think creatively\, solve problems\, and explore business ideas.</p>\n\n<p data-end="817" data-start="527">Held on the campus of <span class="hover:entity-accent entity-underline inline cursor-pointer align-baseline">Louisiana Tech University</span>\, this week-long\, in-person camp gives students the opportunity to work in teams\, develop a business concept\, learn from local entrepreneurs and community leaders\, participate in field trips\, and pitch their ideas on the final day.</p>\n\n<p data-end="945" data-start="819">Students will gain valuable skills in communication\, problem-solving\, and leadership&mdash\;tools that are useful in any career path.</p>\n\n<p data-end="1393" data-start="947"><strong data-end="964" data-start="947">Camp Details:</strong><br data-end="967" data-start="964" />\n&bull\; <strong data-end="977" data-start="969">Who:</strong> Rising high school juniors &amp\; seniors (2026&ndash\;2027 school year)<br data-end="1041" data-start="1038" />\n&bull\; <strong data-end="1052" data-start="1043">When:</strong> June 15&ndash\;19<br data-end="1066" data-start="1063" />\n&emsp\;&ndash\; Monday&ndash\;Thursday: 9:00 AM &ndash\; 2:00 PM (breakfast at 8:30 AM)<br data-end="1129" data-start="1126" />\n&emsp\;&ndash\; Friday: 9:00 AM &ndash\; 12:00 PM (Pitch Day)<br data-end="1173" data-start="1170" />\n&bull\; <strong data-end="1185" data-is-only-node="" data-start="1175">Where:</strong> Louisiana Tech University\, College of Business<br data-end="1235" data-start="1232" />\n&emsp\;502 W. Texas Avenue\, Ruston\, LA (plus select off-site visits)<br data-end="1300" data-start="1297" />\n&bull\; <strong data-end="1311" data-start="1302">Cost:</strong> Free (includes meals and camp t-shirt)<br data-end="1353" data-start="1350" />\n&bull\; <strong data-end="1368" data-start="1355">Capacity:</strong> Limited to 30 students</p>\n\n<p data-end="1609" data-start="1395">Throughout the week\, students will move from idea to execution&mdash\;learning entrepreneurship basics\, testing concepts\, building a brand\, and preparing a final pitch presentation.</p>\n\n<p data-end="1646" data-start="1611"><strong data-end="1632" data-start="1614">Register here:</strong>&nbsp\;<span style="color: rgb(0\, 0\, 0)\; font-family: Aptos\, Aptos_EmbeddedFont\, Aptos_MSFontService\, Calibri\, Helvetica\, sans-serif\; font-size: 16px\;">&nbsp\;</span><a data-auth="NotApplicable" data-linkindex="0" href="https://urldefense.proofpoint.com/v2/url?u=https-3A__latech.qualtrics.com_jfe_form_SV-5F9MmXfwP16qS8c6i&amp\;d=DwMF-g&amp\;c=euGZstcaTDllvimEN8b7jXrwqOf-v5A_CdpgnVfiiMM&amp\;r=gBXqInTPZYRijhT6GNDt3BltbQ_diFruaaAWcHuMSN4&amp\;m=DodpQuO1Dr98nVkydc-_hPhz2wG4zfG7eBkqjjC1knbV23YQ0Y9xeX_Ndn_9UZpX&amp\;s=tshemUo0MeI2RkabEexQCDs23afmX6s2YHrEEW_1uNI&amp\;e=" rel="noopener noreferrer" style="border: 0px\; font-variant-numeric: inherit\; font-variant-east-asian: inherit\; font-variant-alternates: inherit\; font-variant-position: inherit\; font-variant-emoji: inherit\; font-stretch: inherit\; font-size: 16px\; line-height: inherit\; font-family: Aptos\, Aptos_EmbeddedFont\, Aptos_MSFontService\, Calibri\, Helvetica\, sans-serif\; font-optical-sizing: inherit\; font-size-adjust: inherit\; font-kerning: inherit\; font-feature-settings: inherit\; font-variation-settings: inherit\; font-language-override: inherit\; margin: 0px\; padding: 0px\; vertical-align: baseline\;" target="_blank" title="https://urldefense.proofpoint.com/v2/url?u=https-3A__latech.qualtrics.com_jfe_form_SV-5F9MmXfwP16qS8c6i&amp\;d=DwMF-g&amp\;c=euGZstcaTDllvimEN8b7jXrwqOf-v5A_CdpgnVfiiMM&amp\;r=gBXqInTPZYRijhT6GNDt3BltbQ_diFruaaAWcHuMSN4&amp\;m=DodpQuO1Dr98nVkydc-_hPhz2wG4zfG7eBkqjjC1knbV23YQ0Y9xeX_Ndn_9UZpX&amp\;s=tshemUo0MeI2RkabEexQCDs23afmX6s2YHrEEW_1uNI&amp\;e=">https://latech.qualtrics.com/jfe/form/SV_9MmXfwP16qS8c6i</a></p>\n
LOCATION:Where: Louisiana Tech University\, College of Business 502 W. Texas Avenue\, Ruston\, LA (plus select off-site visits)
UID:e.682.33117
SEQUENCE:3
DTSTAMP:20260423T074738Z
URL:https://business.rustonlincoln.org/events/details/lead-launch-the-innovation-institute-33117
END:VEVENT

END:VCALENDAR
