BEGIN:VCALENDAR
VERSION:2.0
PRODID:-//ChamberMaster//Event Calendar 2.0//EN
METHOD:PUBLISH
X-PUBLISHED-TTL:P3D
REFRESH-INTERVAL:P3D
CALSCALE:GREGORIAN
BEGIN:VEVENT
DTSTART:20200109T060000Z
DTEND:20200222T060000Z
X-MICROSOFT-CDO-ALLDAYEVENT:FALSE
SUMMARY:Mardi Gras Baby Photo Contest
DESCRIPTION:Junior Auxiliary of Ruston invites you to enter your baby in our 1st Annual Mardi Gras Baby Photo Contest. Trophies will be awarded to 1st Place winners and ribbons will be awarded to 2nd and 3rd place winner. Photos will be displayed in Railroad Park by the main stage at the Jazzin' It Up Mardi Gras Parade & Festival on Saturday\, February 22\, 2020. \n\n\n\nEntry forms can be found at www.jaofruston.org.\n\nDeadline to enter photos: Friday\, February 14\, 2020.\n\n\n\nAll proceeds benefit Junior Auxiliary of Ruston's various service projects in the community.
X-ALT-DESC;FMTTYPE=text/html:Junior Auxiliary of Ruston invites you to enter your baby in our 1st Annual Mardi Gras Baby Photo Contest. Trophies will be awarded to 1st Place winners and ribbons will be awarded to 2nd and 3rd place winner. Photos will be displayed in Railroad Park by the main stage at the Jazzin&#39\; It Up Mardi Gras Parade &amp\; Festival on Saturday\, February 22\, 2020.&nbsp\;<br />\n<br />\nEntry forms can be found at www.jaofruston.org.<br />\n<strong>Deadline to enter photos: Friday\, February 14\, 2020.</strong><br />\n<br />\nAll proceeds benefit Junior Auxiliary of Ruston&#39\;s various service projects in the community.<br />\n&nbsp\;
LOCATION:Ruston\, LA
UID:e.682.26150
SEQUENCE:3
DTSTAMP:20260423T144321Z
URL:https://business.rustonlincoln.org/events/details/mardi-gras-baby-photo-contest-26150
END:VEVENT

END:VCALENDAR
