BEGIN:VCALENDAR
VERSION:2.0
PRODID:-//ChamberMaster//Event Calendar 2.0//EN
METHOD:PUBLISH
X-PUBLISHED-TTL:P3D
REFRESH-INTERVAL:P3D
CALSCALE:GREGORIAN
BEGIN:VEVENT
DTSTART:20260330T140000Z
DTEND:20260330T150000Z
X-MICROSOFT-CDO-ALLDAYEVENT:FALSE
SUMMARY:GEAUX Vote: Understanding Louisiana’s Closed Party Primary (CPP)
DESCRIPTION:Preparing to vote in Louisiana's upcoming elections? Join the Ruston-Lincoln Chamber of Commerce for a free community information session on Monday\, March 30 from 9:00 10:00 a.m. at the Lincoln Parish Library Community Room.\n\nThis informational session will help attendees understand Louisiana's new Closed Party Primary system\, how party affiliation affects voting eligibility\, important election dates\, and how to ensure voter registration is up to date. Laura Seabaugh\, Deputy Secretary of State for Constituent Services\, will provide helpful guidance and answer questions so voters feel confident and prepared before they Geaux to vote.
X-ALT-DESC;FMTTYPE=text/html:<h3 data-end="196" data-start="117"><span style="font-size: 16px\;">Preparing to vote in Louisiana&rsquo\;s upcoming elections? Join the Ruston-Lincoln Chamber of Commerce for a free community information session on </span><span style="font-size: 16px\; font-weight: bold\;">Monday\, March 30 from 9:00&ndash\;10:00 a.m</span><span style="font-size: 16px\;">. at the Lincoln Parish Library Community Room.</span></h3>\n\n<p style="margin: 0px\; padding: 0px\; color: rgb(0\, 0\, 0)\; font-family: Arial\, Verdana\, Helvetica\, sans-serif\; font-size: 14px\; white-space-collapse: preserve\;"><span style="font-size: 16px\;">This informational session will help attendees understand Louisiana&rsquo\;s new Closed Party Primary system\, how party affiliation affects voting eligibility\, important election dates\, and how to ensure voter registration is up to date. </span><span style="font-size: 16px\; font-weight: bold\;">Laura Seabaugh\, Deputy Secretary of State </span><span style="font-size: 16px\;">for Constituent Services\, will provide helpful guidance and answer questions so voters feel confident and prepared before they Geaux to vote.</span></p>\n
LOCATION:Lincoln Parish Library
UID:e.682.33098
SEQUENCE:3
DTSTAMP:20260423T074950Z
URL:https://business.rustonlincoln.org/events/details/preparing-to-vote-understanding-louisiana-s-closed-party-primary-cpp-33098
END:VEVENT

END:VCALENDAR
