BEGIN:VCALENDAR
VERSION:2.0
PRODID:-//ChamberMaster//Event Calendar 2.0//EN
METHOD:PUBLISH
X-PUBLISHED-TTL:P3D
REFRESH-INTERVAL:P3D
CALSCALE:GREGORIAN
BEGIN:VEVENT
DTSTART;VALUE=DATE:20180424
DTEND;VALUE=DATE:20180430
TRANSP:TRANSPARENT
X-MICROSOFT-CDO-ALLDAYEVENT:TRUE
SUMMARY:Shakespeare's KING LEAR
DESCRIPTION:King Lear\, one of Shakespeare's darkest and most savage plays\, tells the story of the foolish and Job-like Lear\, who divides his kingdom\, as he does his affections\, according to vanity and whim. His plan goes awry as his daughters scheme and fight for control\, throwing the entire kingdom into turmoil. Lear's failure as a father and a king engulfs himself and his world in tragedy\, as he descends further and further into madness. Offering some of Shakespeare's greatest and strongest characters for both men and women\, King Lear showcases the Bard at the height of his dramatic powers.
X-ALT-DESC;FMTTYPE=text/html:<em>King Lear</em><span style="color:rgb(0\, 0\, 0)\; font-family:raleway\,sans-serif\; font-size:16px">\, one of Shakespeare&#39\;s darkest and most savage plays\, tells the story of the foolish and Job-like Lear\, who divides his kingdom\, as he does his affections\, according to vanity and whim. His plan goes awry as his daughters scheme and fight for control\, throwing the entire kingdom into turmoil. Lear&#39\;s failure as a father and a king engulfs himself and his world in tragedy\, as he descends further and further into madness. Offering some of Shakespeare&rsquo\;s greatest and strongest characters for both men and women\,&nbsp\;</span><em>King Lear&nbsp\;</em><span style="color:rgb(0\, 0\, 0)\; font-family:raleway\,sans-serif\; font-size:16px">showcases the Bard at the height of his dramatic powers.</span>
LOCATION:Our play will take place in Arthur W. Stone Theatre\, located in Howard Center of the Performing Arts on Louisiana Tech University's campus.
UID:e.682.15660
SEQUENCE:3
DTSTAMP:20260423T061633Z
URL:https://business.rustonlincoln.org/events/details/shakespeare-s-king-lear-15660
END:VEVENT

END:VCALENDAR
