BEGIN:VCALENDAR
VERSION:2.0
PRODID:-//ChamberMaster//Event Calendar 2.0//EN
METHOD:PUBLISH
X-PUBLISHED-TTL:P3D
REFRESH-INTERVAL:P3D
CALSCALE:GREGORIAN
BEGIN:VEVENT
DTSTART:20260322T000000Z
DTEND:20260322T020000Z
X-MICROSOFT-CDO-ALLDAYEVENT:FALSE
SUMMARY:Shirley Carter's Royal Women of Country
DESCRIPTION:This night will be unforgettable for all! Shirley will perform the great country songs just as they were performed by their original artists. The songs that have rang through the decades\, including the full stage presence of each artist from their vocals to their stage costumes and hair design\, guitars and right down to their shoes! Shirley hopes to raise spirits\, bring smiles\, and make great memories come to life and all in one evening with one performer! You are sure to be pleasantly surprised and awed at the sights and sounds resonating from this stage. Shirley is steeped in gospel/country tradition as she sang with and is the daughter of Hall of Famer\, the late Roy Carter\, leader/bass singer for the legendary Chuck Wagon Gang. Shirley brings all her talent to the stage with her undeniable vocal abilities as a result of her lifelong musical journey!
X-ALT-DESC;FMTTYPE=text/html:This night will be unforgettable for all! Shirley will perform the great country songs just as they were performed by their original artists. The songs that have rang through the decades\, including the full stage presence of each artist from their vocals to their stage costumes and hair design\, guitars and right down to their shoes! Shirley hopes to raise spirits\, bring smiles\, and make great memories come to life and all in one evening with one performer! You are sure to be pleasantly surprised and awed at the sights and sounds resonating from this stage. Shirley is steeped in gospel/country tradition as she sang with and is the daughter of Hall of Famer\, the late Roy Carter\, leader/bass singer for the legendary Chuck Wagon Gang. Shirley brings all her talent to the stage with her undeniable vocal abilities as a result of her lifelong musical journey!
LOCATION:212 N Vienna St\, Ruston\, LA 71270
UID:e.682.33095
SEQUENCE:3
DTSTAMP:20260423T080913Z
URL:https://business.rustonlincoln.org/events/details/shirley-carter-s-royal-women-of-country-33095
END:VEVENT

END:VCALENDAR
