BEGIN:VCALENDAR
VERSION:2.0
PRODID:-//ChamberMaster//Event Calendar 2.0//EN
METHOD:PUBLISH
X-PUBLISHED-TTL:P3D
REFRESH-INTERVAL:P3D
CALSCALE:GREGORIAN
BEGIN:VEVENT
DTSTART;VALUE=DATE:20200523
DTEND;VALUE=DATE:20200524
TRANSP:TRANSPARENT
X-MICROSOFT-CDO-ALLDAYEVENT:TRUE
SUMMARY:Spring Arts Market Online
DESCRIPTION:NCLAC has launched an online arts marketplace through our website\, nclac.org/shop. The local arts community needs our support now more than ever. Help artists by shopping their goods online! Through the month of May\, view live demonstrations by artists and musicians Monty Russell\, Bill Deese\, Bonnie Ferguson\, Christiane Drieling\, Shelly Nealy\, Lauren Dixon\, and Maggie Boudreaux as they share their creative processes with video demonstrations posted online. Follow along or watch the magic of the creative process from home.\n\n\n\nAll artists\, makers\, creators\, and designers of all ages are encouraged to participate in selling items that are artistically made\, one-of-a-kind\, fair-trade\, handmade\, or custom designed. \n\n\n\nArtists can participate by signing up for FREE here.
X-ALT-DESC;FMTTYPE=text/html:<p><span style="font-size:16px\;">NCLAC has launched an online arts marketplace through our website\, <a href="https://urldefense.proofpoint.com/v2/url?u=http-3A__nclac.org_shop&amp\;d=DwMFaQ&amp\;c=euGZstcaTDllvimEN8b7jXrwqOf-v5A_CdpgnVfiiMM&amp\;r=XODaXP9L01QImu5aLAKG9fg7nILEYAOchpTYBp3URW0&amp\;m=MpzpXYG9FLRiysWf7eOaRj02VdJy8rAuHU13TL3DEYw&amp\;s=Ahzs-SqK495E6BvcaA_HboG-6PWVYcrtGeL5xHO8xAw&amp\;e="><span style="color:rgb(4\, 51\, 255)">nclac.org/shop</span></a>. The local arts community needs our support now more than ever. Help artists by shopping their goods online! Through the month of May\, view&nbsp\;live demonstrations by artists and musicians Monty Russell\, Bill Deese\, Bonnie Ferguson\, Christiane Drieling\, Shelly Nealy\, Lauren Dixon\, and Maggie Boudreaux as they share their creative processes with video demonstrations posted online. Follow along or watch the magic of the creative process from home.<br>\n<br>\nAll artists\, makers\, creators\, and designers of all ages are encouraged <span style="color:rgb(32\, 32\, 32)">to participate in selling items that are artistically made\, one-of-a-kind\, fair-trade\, handmade\, or custom designed.&nbsp\;</span></span></p>\n\n<p><br>\n<span style="font-size:16px\;">Artists can participate by signing up for FREE&nbsp\;<a href="https://northcentrallouisiana-art.squarespace.com/spring-arts-market-online">here.&nbsp\;</a></span></p>\n
LOCATION:nclac.org/shop.
UID:e.682.26280
SEQUENCE:3
DTSTAMP:20260424T233425Z
URL:https://business.rustonlincoln.org/events/details/spring-arts-market-online-05-23-2020-26280
END:VEVENT

END:VCALENDAR
